BEGIN:VCALENDAR
VERSION:2.0
PRODID:-//ChamberMaster//Event Calendar 2.0//EN
METHOD:PUBLISH
X-PUBLISHED-TTL:P3D
REFRESH-INTERVAL:P3D
CALSCALE:GREGORIAN
BEGIN:VEVENT
DTSTART:20241019T150000Z
DTEND:20241019T170000Z
X-MICROSOFT-CDO-ALLDAYEVENT:FALSE
SUMMARY:Textile Conservation on a Budget
DESCRIPTION:Textile Conservation on a Budget\n\nLearn to Preserve and Protect textiles with Dr. Amber Clifford - Professor of Anthropology and Director of the McClure Archives and Museum at the University of Central Missouri.\n\nBring your textiles! Dr. Clifford will give Free one-on-one advice about your items!\n\nQuilts\, Uniforms\, Vintage Clothes\, Hats\, Fiber Art\n\nFREE Workshop\n\nOctober 19 at 10:00am\n\nNewton County Historical Park & Museum\n\n121 N. Washington St.\, Neosho\, MO 64850\n\nEveryone Welcome
X-ALT-DESC;FMTTYPE=text/html:<p>Textile Conservation on a Budget</p>\n\n<p>Learn to Preserve and Protect textiles with Dr. Amber Clifford - Professor of Anthropology and Director of the McClure Archives and Museum at the University of Central Missouri.</p>\n\n<p>Bring your textiles! Dr. Clifford will give Free one-on-one advice about your items!<br />\nQuilts\, Uniforms\, Vintage Clothes\, Hats\, Fiber Art</p>\n\n<p>FREE Workshop<br />\nOctober 19 at 10:00am<br />\nNewton County Historical Park &amp\; Museum<br />\n121 N. Washington St.\, Neosho\, MO 64850<br />\nEveryone Welcome</p>\n
LOCATION:Newton County Historical Park & Museum 121 N. Washington St.\, Neosho\, MO 64850
UID:e.2144.13074
SEQUENCE:3
DTSTAMP:20260424T190337Z
URL:https://www.neoshocc.com/events/details/textile-conservation-on-a-budget-13074
END:VEVENT

END:VCALENDAR
