BEGIN:VCALENDAR
VERSION:2.0
PRODID:-//ChamberMaster//Event Calendar 2.0//EN
METHOD:PUBLISH
X-PUBLISHED-TTL:P3D
REFRESH-INTERVAL:P3D
CALSCALE:GREGORIAN
BEGIN:VEVENT
DTSTART:20250614T000000Z
DTEND:20250616T000000Z
X-MICROSOFT-CDO-ALLDAYEVENT:FALSE
SUMMARY:The BFG (Big Friendly Giant) - Theatre Performance
DESCRIPTION:School may be out for the summer\, but the Crowder College Theatre Department is staying busy and cool inside the Elsie Plaster Auditorium\, preparing for an upcoming production\, "The BFG" (Big Friendly Giant).\n\nThe performance is adapted by David Wood based on the original book by Roald Dahl. Crowder's performance is directed by Monty Pugh-Towe and features a cast list of area students and community members. \n\nA young girl\, in desperate need of a friend\, is quickly forced to befriend the BFG\, who unlike most giants\, is not scary or mean. The two take off on quite the journey together and build a life-long friendship.\n\nShow times are June 13 & June 14 nightly at 7 pm. The last showing will take place on June 15 at 2 pm. All shows will be held inside the Elsie Plaster Auditorium inside the Elsie Plaster Community Center on the Crowder Neosho campus\, located at 601 Laclede Ave.\, Neosho\, MO. General admission is $5 and tickets for children 12 and under cost $3. Tickets may be purchased at each showing.
X-ALT-DESC;FMTTYPE=text/html:<p><span style="background-color:transparent\; color:rgb(0\, 0\, 0)\; font-family:lato\,sans-serif\; font-size:12pt">School may be out for the summer\, but the Crowder College Theatre Department is staying busy and cool inside the Elsie Plaster Auditorium\, preparing for an upcoming production\, &ldquo\;The BFG&rdquo\; (Big Friendly Giant).</span></p>\n\n<p><span style="background-color:transparent\; color:rgb(0\, 0\, 0)\; font-family:lato\,sans-serif\; font-size:12pt">The performance is adapted by David Wood based on the original book by Roald Dahl. Crowder&rsquo\;s performance is directed by Monty Pugh-Towe and features a cast list of area students and community members.&nbsp\;</span></p>\n\n<p><span style="background-color:transparent\; color:rgb(0\, 0\, 0)\; font-family:lato\,sans-serif\; font-size:12pt">A young girl\, in desperate need of a friend\, is quickly forced to befriend the BFG\, who unlike most giants\, is not scary or mean. The two take off on quite the journey together and build a life-long friendship.</span></p>\n\n<p><span style="background-color:transparent\; color:rgb(0\, 0\, 0)\; font-family:lato\,sans-serif\; font-size:12pt">Show times are June 13 &amp\; June 14 nightly at 7 pm. The last showing will take place on June 15 at 2 pm. All shows will be held inside the Elsie Plaster Auditorium inside the Elsie Plaster Community Center on the Crowder Neosho campus\, located at 601 Laclede Ave.\, Neosho\, MO. General admission is $5 and tickets for children 12 and under cost $3. Tickets may be purchased at each showing.</span></p>\n\n<div>&nbsp\;</div>\n
LOCATION:Elsie Plaster Auditorium inside the Elsie Plaster Community Center on the Crowder Neosho campus\, located at 601 Laclede Ave.\, Neosho\, MO.
UID:e.2144.16633
SEQUENCE:3
DTSTAMP:20260424T074000Z
URL:https://www.neoshocc.com/events/details/the-bfg-big-friendly-giant-theatre-performance-16633
END:VEVENT

END:VCALENDAR
