BEGIN:VCALENDAR
VERSION:2.0
PRODID:-//ChamberMaster//Event Calendar 2.0//EN
METHOD:PUBLISH
X-PUBLISHED-TTL:P3D
REFRESH-INTERVAL:P3D
CALSCALE:GREGORIAN
BEGIN:VEVENT
DTSTART:20240515T150000Z
DTEND:20240519T200000Z
X-MICROSOFT-CDO-ALLDAYEVENT:FALSE
SUMMARY:The Concert Truck
DESCRIPTION:Connect2Culture is revisiting its nomadic performing arts roots (before it came home to the Cornell Complex) by bringing The Concert Truck to Joplin for seven special performances held throughout the community from May 15th through 19th. This 16-foot box truck transforms into the ultimate mobile concert hall\, inviting audiences to experience firsthand how music can bring communities together in extraordinary ways. Learn more: connect2culture.org/the-concert-truck. Teaching artists Susan Zhang and Gabrielle Chou\, will play both piano four hands and violin/piano duos throughout their time in Joplin. Their performances in this traveling music venue will strengthen the Joplin community by redefining the concert experience and making live music accessible to everyone.
X-ALT-DESC;FMTTYPE=text/html:Connect2Culture is revisiting its nomadic performing arts roots (before it came home to the Cornell Complex) by bringing The Concert Truck to Joplin for seven special performances held throughout the community from May 15th through 19th. This 16-foot box truck transforms into the ultimate mobile concert hall\, inviting audiences to experience firsthand how music can bring communities together in extraordinary ways. Learn more: connect2culture.org/the-concert-truck. Teaching artists Susan Zhang and Gabrielle Chou\, will play both piano four hands and violin/piano duos throughout their time in Joplin. Their performances in this traveling music venue will strengthen the Joplin community by redefining the concert experience and making live music accessible to everyone.
LOCATION:
UID:e.2144.12057
SEQUENCE:3
DTSTAMP:20260425T020506Z
URL:https://www.neoshocc.com/events/details/the-concert-truck-12057
END:VEVENT

END:VCALENDAR
