BEGIN:VCALENDAR
VERSION:2.0
PRODID:-//ChamberMaster//Event Calendar 2.0//EN
METHOD:PUBLISH
X-PUBLISHED-TTL:P3D
REFRESH-INTERVAL:P3D
CALSCALE:GREGORIAN
BEGIN:VEVENT
DTSTART:20251205T010000Z
DTEND:20251205T030000Z
X-MICROSOFT-CDO-ALLDAYEVENT:FALSE
SUMMARY:The Erwins - Live in Concert
DESCRIPTION:The Erwins live in concert with an energetic evening of music with Christmas classics! All to benefit the work of the Neosho Area Habitat for Humanity. \n\nThursday\, December 4\, 2025\n\nConcert starts at 7:00pm\n\nDoors open at 6:00pm\n\n\n\nFreeman Performing Arts Center\n\nNeosho High School\n\n511 S. Neosho Blvd.\n\nNeosho\, MO 64850\n\n \n\n$25 for Adult Tickets\n\nKids 10 and under $10\n\nBuy tickets at neoshohabitat.org
X-ALT-DESC;FMTTYPE=text/html:<p><span dir="auto">The Erwins live in concert with an energetic evening of music with Christmas classics! All to benefit the work of the Neosho Area Habitat for Humanity.&nbsp\;</span></p>\n\n<p><span dir="auto">Thursday\, December 4\, 2025</span></p>\n\n<div><span dir="auto">Concert starts at 7:00pm<br />\nDoors open at 6:00pm</span></div>\n\n<div><br />\n<span dir="auto">Freeman Performing Arts Center<br />\nNeosho High School<br />\n511 S. Neosho Blvd.<br />\nNeosho\, MO 64850</span></div>\n\n<p>&nbsp\;</p>\n\n<div><span dir="auto">$25 for Adult Tickets<br />\nKids 10 and under $10</span></div>\n\n<div><span dir="auto">Buy tickets at <a class="x1i10hfl xjbqb8w x1ejq31n x18oe1m7 x1sy0etr xstzfhl x972fbf x10w94by x1qhh985 x14e42zd x9f619 x1ypdohk xt0psk2 x3ct3a4 xdj266r x14z9mp xat24cr x1lziwak xexx8yu xyri2b x18d9i69 x1c1uobl x16tdsg8 x1hl2dhg xggy1nq x1a2a7pz xkrqix3 x1sur9pj x1fey0fg x1s688f" href="https://l.facebook.com/l.php?u=http%3A%2F%2Fneoshohabitat.org%2F%3Ffbclid%3DIwZXh0bgNhZW0CMTAAYnJpZBExMFRsUXgzQlNnRTRndmhHOQEegQdwcYkgn2ci3GzAof0pjP0a3hdgMlTltZpewRvwYo4XKMkvCHEbsjgQSmA_aem_HjkR5_H47bDyC9kEeWYtsA&amp\;h=AT3lkW95XmwTlIX-O_Ez54nKCSIk9FVxRj_WWHhVSBi91rKWXAJqoghmmO9IRtFde1KmNFUjISXzX_NDQEKaKHd6FStSQyj0BzBn7C_Rj1S-m8h0zALBDxLeuNYdq2QXIpVeLkOyRLFK0A&amp\;__tn__=q&amp\;c[0]=AT1HBGuiKtNAfk11ao5ps3NCypAGkc98RC47ztLpO7XZb4TM5RbKRiGt1rNq7OrMV1eSXjvzTUfNRBdxUrADSIAAhgCO_KmTUj-IRPzusxt-RPmht3a1BxEmUGdLNXDbs0mMk_OH1_GaMIUW3inVluHBYlDo1mpgqlA" rel="nofollow noreferrer" tabindex="0" target="_blank">neoshohabitat.org</a></span></div>\n\n<div>&nbsp\;</div>\n
LOCATION:Freeman Performing Arts Center Neosho High School 511 S. Neosho Blvd. Neosho\, MO 64850
UID:e.2144.18547
SEQUENCE:3
DTSTAMP:20260423T224839Z
URL:https://www.neoshocc.com/events/details/the-erwins-live-in-concert-18547
END:VEVENT

END:VCALENDAR
