BEGIN:VCALENDAR
VERSION:2.0
PRODID:-//ChamberMaster//Event Calendar 2.0//EN
METHOD:PUBLISH
X-PUBLISHED-TTL:P3D
REFRESH-INTERVAL:P3D
CALSCALE:GREGORIAN
BEGIN:VEVENT
DTSTART:20240729T230000Z
DTEND:20240803T013000Z
X-MICROSOFT-CDO-ALLDAYEVENT:FALSE
SUMMARY:The Great Jungle Journey VBS
DESCRIPTION:Come join us on a jungle journey where we'll explore the Bible beginning to end! From Monday July 29th through August 2nd\, from 6-8:30pm\, we'll spend time at Jungle Jam\, Tree-mendous Crafts & Science\, Swinging Songs\, Rainforest Recreation\, and the Canopy Cafe (snack provided). We will have classes for ages 3 & Up (even for adults)! Fill out our registration form to reserve your seat on our river boat! Tickets are FREE! Link to register: https://forms.gle/6SZWu5MGbXAVaAWA6
X-ALT-DESC;FMTTYPE=text/html:Come join us on a jungle journey where we&#39\;ll explore the Bible beginning to end! From Monday July 29th through August 2nd\, from 6-8:30pm\, we&#39\;ll spend time at Jungle Jam\, Tree-mendous Crafts &amp\; Science\, Swinging Songs\, Rainforest Recreation\, and the Canopy Cafe (snack provided). We will have classes for ages 3 &amp\; Up (even for adults)! Fill out our registration form to reserve your seat on our river boat! Tickets are FREE! Link to register: https://forms.gle/6SZWu5MGbXAVaAWA6
LOCATION:Monark Baptist Church
UID:e.2144.12222
SEQUENCE:3
DTSTAMP:20260424T215626Z
URL:https://www.neoshocc.com/events/details/the-great-jungle-journey-vbs-12222
END:VEVENT

END:VCALENDAR
