BEGIN:VCALENDAR
VERSION:2.0
PRODID:-//ChamberMaster//Event Calendar 2.0//EN
METHOD:PUBLISH
X-PUBLISHED-TTL:P3D
REFRESH-INTERVAL:P3D
CALSCALE:GREGORIAN
BEGIN:VEVENT
DTSTART:20251011T190000Z
DTEND:20251011T200000Z
X-MICROSOFT-CDO-ALLDAYEVENT:FALSE
SUMMARY:The Legacy of Camp Crowder - World War II and Beyond
DESCRIPTION:Discover the early history and development of Camp Crowder as World War II unfolds and see how Neosho played a part in American history. See how 1940's Neosho transformed with the construction of the U.S. Army's Camp Crowder and it's lasting impact on the area today.\n\nCaptivating lecture with historical photograph presentation\n\nwith Special Guest Speaker\, historian  and author\, Jeremy Amick\n\nauthor of "Camp Crowder" A pictorial history.\n\n\n	FREE\n	2:00pm\n	October 11\, 2025\n	Central Campus\, 301 Big Spring Dr.\, Neosho\, MO 64850 (Additional parking and ADA Accessible entrance available via W. Hickory St.)\n\n\n"Camp Crowder" A pictorial history will be available to purchase for $20 after the program. Amick will also have a selection of additional military biographies that he has written for sale.\n\n\n\nAmick is a veteran of the U.S. Army and Missouri National Guard\, a recipient of the National History Award Medal from the Daughters of the American Revolution and the esteemed Jefferson Award for his volunteerism.
X-ALT-DESC;FMTTYPE=text/html:<div><span style="font-size:12px"><span style="font-family:arial\,helvetica\,sans-serif"><span dir="auto">Discover the early history and development of Camp Crowder as World War II unfolds and see how Neosho played a part in American history. See how 1940&#39\;s Neosho transformed with the construction of the U.S. Army&#39\;s Camp Crowder and it&#39\;s lasting impact on the area today.</span></span></span></div>\n\n<p><span style="font-size:12px"><span style="font-family:arial\,helvetica\,sans-serif"><span dir="auto">Captivating lecture with historical photograph presentation</span></span></span></p>\n\n<div><span style="font-size:12px"><span style="font-family:arial\,helvetica\,sans-serif"><span dir="auto">with Special Guest Speaker\, historian&nbsp\; and author\, Jeremy Amick<br />\nauthor of &ldquo\;Camp Crowder&rdquo\; A pictorial history.</span></span></span></div>\n\n<ul>\n	<li><span style="font-size:12px"><span style="font-family:arial\,helvetica\,sans-serif"><span dir="auto">FREE</span></span></span></li>\n	<li><span style="font-size:12px"><span style="font-family:arial\,helvetica\,sans-serif"><span dir="auto">2:00pm</span></span></span></li>\n	<li><span style="font-size:12px"><span style="font-family:arial\,helvetica\,sans-serif"><span dir="auto">October 11\, 2025</span></span></span></li>\n	<li><span style="font-size:12px"><span style="font-family:arial\,helvetica\,sans-serif"><span dir="auto">Central Campus\,&nbsp\;<span dir="auto">301 Big Spring Dr.\,&nbsp\;<span dir="auto">Neosho\, MO 64850 (<em><span dir="auto">Additional parking and ADA Accessible entrance available via W. Hickory St.)</span></em></span></span></span></span></span></li>\n</ul>\n\n<div><span style="font-size:12px"><span style="font-family:arial\,helvetica\,sans-serif"><span dir="auto">&ldquo\;Camp Crowder&rdquo\; A pictorial history will be available to purchase for $20 after the program. Amick will also have a selection of additional military biographies that he has written for sale.</span><br />\n<br />\nAmick is a veteran of the U.S. Army and Missouri National Guard\, a recipient of the National History Award Medal from the Daughters of the American Revolution and the esteemed Jefferson Award for his volunteerism.</span></span><br />\n<br type="_moz" />\n&nbsp\;</div>\n
LOCATION:Central Campus 301 Big Spring Dr. Neosho\, MO 64850 Additional parking and ADA Accessible entrance available via W. Hickory St.
UID:e.2144.18470
SEQUENCE:3
DTSTAMP:20260424T030830Z
URL:https://www.neoshocc.com/events/details/the-legacy-of-camp-crowder-world-war-ii-and-beyond-18470
END:VEVENT

END:VCALENDAR
