BEGIN:VCALENDAR
VERSION:2.0
PRODID:-//ChamberMaster//Event Calendar 2.0//EN
METHOD:PUBLISH
X-PUBLISHED-TTL:P3D
REFRESH-INTERVAL:P3D
CALSCALE:GREGORIAN
BEGIN:VEVENT
DTSTART:20230325T150000Z
DTEND:20230325T190000Z
X-MICROSOFT-CDO-ALLDAYEVENT:FALSE
SUMMARY:The Many Disguises of Robin Hood presented by Crowder College Theatre
DESCRIPTION:Crowder College Theatre will present The Many Disguises of Robin Hood (G) Saturday\, March 25 at 10am and 2pm at the Elsie Plaster Community Center (601 Laclede Ave.\, Neosho\, MO 64850). Reserve tickets by calling 417.455.5678 or online at CrowderBookstore.com/Events\n\n\n\nThe Many Disguises of Robin Hood (G) by Brian Guehring and directed by NaTasha O'Brien-Davies
X-ALT-DESC;FMTTYPE=text/html:Crowder College Theatre will present&nbsp\;<em>The Many Disguises of Robin Hood (G)&nbsp\;</em>Saturday\, March 25 at 10am and 2pm at the Elsie Plaster Community Center (601 Laclede Ave.\, Neosho\, MO 64850). Reserve tickets by calling 417.455.5678 or online at <a href="http://CrowderBookstore.com/Events">CrowderBookstore.com/Events</a><br />\n<br />\n<em>The Many Disguises of Robin Hood (G)&nbsp\;</em>by Brian Guehring and directed by NaTasha O&#39\;Brien-Davies
LOCATION:Elsie Plaster Community Center\, Crowder College 601 Laclede Ave.\, Neosho\, MO 64850
UID:e.2144.9112
SEQUENCE:3
DTSTAMP:20260425T232447Z
URL:https://www.neoshocc.com/events/details/the-many-disguises-of-robin-hood-presented-by-crowder-college-theatre-9112
END:VEVENT

END:VCALENDAR
