BEGIN:VCALENDAR
VERSION:2.0
PRODID:-//ChamberMaster//Event Calendar 2.0//EN
METHOD:PUBLISH
X-PUBLISHED-TTL:P3D
REFRESH-INTERVAL:P3D
CALSCALE:GREGORIAN
BEGIN:VEVENT
DTSTART:20240614T200000Z
DTEND:20240615T000000Z
X-MICROSOFT-CDO-ALLDAYEVENT:FALSE
SUMMARY:The Nighthawk's 1st Birthday Celebration!
DESCRIPTION:Can you believe it's already almost been a YEAR? Come celebrate the gallery's first year with us! \n\n\n\nFriday\, June 14th\, 3pm-7pm\n\n\n\nWe have a lot going on! \n\n\n\nPennington Wines and The Farmstead Market & Kitchen are returning to offer their delicious creations for your taste buds. And there is a high chance that Indian Springs Brewing Company will be crafting a bourbon slushy for us. :D (Non-alcoholic beverages will also be provided). \n\n\n\nAmanda Kimble is coming back to perform her beautiful music on the harp\, just like at our grand opening! She will be playing from 5-6pm. \n\n\n\nAnd William Jeffrey Jones will be on site doing an art demo! Sculpting or painting\, we'll confirm within the week! \n\n\n\nAnd I'm very excited to share that we'll have a flower bar set up by Kim Gray! She'll have gorgeous spring flowers for you to choose from to craft bouquets for you to take home and enjoy. \n\n\n\nLastly\, we'll have some exciting giveaways for first customers of the day! Stay tuned and keep an eye on this page for more details. \n\n\n\nCannot wait to celebrate with everyone!
X-ALT-DESC;FMTTYPE=text/html:Can you believe it&#39\;s already almost been a YEAR? Come celebrate the gallery&#39\;s first year with us!&nbsp\;<br />\n<br />\nFriday\, June 14th\, 3pm-7pm<br />\n<br />\nWe have a lot going on!&nbsp\;<br />\n<br />\nPennington Wines and The Farmstead Market &amp\; Kitchen are returning to offer their delicious creations for your taste buds. And there is a high chance that Indian Springs Brewing Company will be crafting a bourbon slushy for us. :D (Non-alcoholic beverages will also be provided).&nbsp\;<br />\n<br />\nAmanda Kimble is coming back to perform her beautiful music on the harp\, just like at our grand opening! She will be playing from 5-6pm.&nbsp\;<br />\n<br />\nAnd William Jeffrey Jones will be on site doing an art demo! Sculpting or painting\, we&#39\;ll confirm within the week!&nbsp\;<br />\n<br />\nAnd I&#39\;m very excited to share that we&#39\;ll have a flower bar set up by Kim Gray! She&#39\;ll have gorgeous spring flowers for you to choose from to craft bouquets for you to take home and enjoy.&nbsp\;<br />\n<br />\nLastly\, we&#39\;ll have some exciting giveaways for first customers of the day! Stay tuned and keep an eye on this page for more details.&nbsp\;<br />\n<br />\nCannot wait to celebrate with everyone!
LOCATION:Nighthawk Gallery 102 E. Spring St. Neosho\, MO 64850
UID:e.2144.12173
SEQUENCE:3
DTSTAMP:20260425T004047Z
URL:https://www.neoshocc.com/events/details/the-nighthawk-s-1st-birthday-celebration-12173
END:VEVENT

END:VCALENDAR
