BEGIN:VCALENDAR
VERSION:2.0
PRODID:-//ChamberMaster//Event Calendar 2.0//EN
METHOD:PUBLISH
X-PUBLISHED-TTL:P3D
REFRESH-INTERVAL:P3D
CALSCALE:GREGORIAN
BEGIN:VEVENT
DTSTART:20230604T003000Z
DTEND:20230604T023000Z
X-MICROSOFT-CDO-ALLDAYEVENT:FALSE
SUMMARY:The Okee Dokee Brothers
DESCRIPTION:Connect2Culture presents The Okee Dokee Brothers on Saturday\, June 3\, 7:30pm at the Harry M. Cornell Arts & Entertainment Complex! The Okee Dokee Brothers' family-friendly folk music inspires audiences to step outside and develop a deeper respect for the natural world\, their communities\, and themselves. Tickets are available at connect2culture.org/tickets or (417) 501-5550.
X-ALT-DESC;FMTTYPE=text/html:Connect2Culture presents The Okee Dokee Brothers on Saturday\, June 3\, 7:30pm at the Harry M. Cornell Arts &amp\; Entertainment Complex! The Okee Dokee Brothers&rsquo\; family-friendly folk music inspires audiences to step outside and develop a deeper respect for the natural world\, their communities\, and themselves. Tickets are available at connect2culture.org/tickets or (417) 501-5550.
LOCATION:Harry M. Cornell Arts & Entertainment Complex located at 212 West 7th Street\, Joplin\, MO 64801
UID:e.2144.9909
SEQUENCE:3
DTSTAMP:20260425T200851Z
URL:https://www.neoshocc.com/events/details/the-okee-dokee-brothers-9909
END:VEVENT

END:VCALENDAR
