BEGIN:VCALENDAR
VERSION:2.0
PRODID:-//ChamberMaster//Event Calendar 2.0//EN
METHOD:PUBLISH
X-PUBLISHED-TTL:P3D
REFRESH-INTERVAL:P3D
CALSCALE:GREGORIAN
BEGIN:VEVENT
DTSTART:20240921T140000Z
DTEND:20240921T200000Z
X-MICROSOFT-CDO-ALLDAYEVENT:FALSE
SUMMARY:The Oxbow Autumn Market
DESCRIPTION:Join us for our annual Autumn Market at The Oxbow and enjoy local artisan vendors\, the autumn breeze and shop the store with some great fall finds!??????
X-ALT-DESC;FMTTYPE=text/html:Join us for our annual Autumn Market at The Oxbow and enjoy local artisan vendors\, the autumn breeze and shop the store with some great fall finds!??????
LOCATION:The Oxbow Market 8637 Oxbow Ln Neosho\, MO 64850
UID:e.2144.13066
SEQUENCE:3
DTSTAMP:20260424T203628Z
URL:https://www.neoshocc.com/events/details/the-oxbow-autumn-market-09-21-2024-13066
END:VEVENT

END:VCALENDAR
