BEGIN:VCALENDAR
VERSION:2.0
PRODID:-//ChamberMaster//Event Calendar 2.0//EN
METHOD:PUBLISH
X-PUBLISHED-TTL:P3D
REFRESH-INTERVAL:P3D
CALSCALE:GREGORIAN
BEGIN:VEVENT
DTSTART:20230923T140000Z
DTEND:20230923T220000Z
X-MICROSOFT-CDO-ALLDAYEVENT:FALSE
SUMMARY:The Oxbow Autumn Market
DESCRIPTION:Come and join us for a fun day full of all things fall! You can shop for your pumpkins\, mums\, yummy baked goods and other farmers market items in a beautiful country setting along with all the fall and Home decor you need to make your space a cozy home!
X-ALT-DESC;FMTTYPE=text/html:Come and join us for a fun day full of all things fall! You can shop for your pumpkins\, mums\, yummy baked goods and other farmers market items in a beautiful country setting along with all the fall and Home decor you need to make your space a cozy home!
LOCATION:8637 Oxbow Ln Neosho Mo 5 miles west of Walmart on 60 Hwy
UID:e.2144.10783
SEQUENCE:3
DTSTAMP:20260425T140913Z
URL:https://www.neoshocc.com/events/details/the-oxbow-autumn-market-10783
END:VEVENT

END:VCALENDAR
