BEGIN:VCALENDAR
VERSION:2.0
PRODID:-//ChamberMaster//Event Calendar 2.0//EN
METHOD:PUBLISH
X-PUBLISHED-TTL:P3D
REFRESH-INTERVAL:P3D
CALSCALE:GREGORIAN
BEGIN:VEVENT
DTSTART:20240420T140000Z
DTEND:20240420T210000Z
X-MICROSOFT-CDO-ALLDAYEVENT:FALSE
SUMMARY:The Oxbow’s Spring Market!
DESCRIPTION:Join us for a Spring Market at The Oxbow Market\, a home decor & gift boutique in Neosho. We will have over a dozen additional vendors set up featuring Fausett Greenhouses plants and seed starters\, Taco Bombers fresh made tacos\, local baked goods\, a jewelry charm bar\, a hat bar\, a flower bouquet bar and much more!! Inside our boutique you will find home decor\, textiles\, apparel\, handmade pottery\, a locally made skin care line\, hand poured candles\, and gourmet foods to get you in the spirit for Spring and Summer!
X-ALT-DESC;FMTTYPE=text/html:Join us for a Spring Market at The Oxbow Market\, a home decor &amp\; gift boutique in Neosho. We will have over a dozen additional vendors set up featuring Fausett Greenhouses plants and seed starters\, Taco Bombers fresh made tacos\, local baked goods\, a jewelry charm bar\, a hat bar\, a flower bouquet bar and much more!! Inside our boutique you will find home decor\, textiles\, apparel\, handmade pottery\, a locally made skin care line\, hand poured candles\, and gourmet foods to get you in the spirit for Spring and Summer!
LOCATION:The Oxbow Market 8637 Oxbow Ln Neosho\, MO 64850
UID:e.2144.11508
SEQUENCE:3
DTSTAMP:20260425T031447Z
URL:https://www.neoshocc.com/events/details/the-oxbow-s-spring-market-11508
END:VEVENT

END:VCALENDAR
