BEGIN:VCALENDAR
VERSION:2.0
PRODID:-//ChamberMaster//Event Calendar 2.0//EN
METHOD:PUBLISH
X-PUBLISHED-TTL:P3D
REFRESH-INTERVAL:P3D
CALSCALE:GREGORIAN
BEGIN:VEVENT
DTSTART:20230215T000000Z
DTEND:20230215T020000Z
X-MICROSOFT-CDO-ALLDAYEVENT:FALSE
SUMMARY:The Secret Agency
DESCRIPTION:Connect2Culture presents The Secret Agency on Tuesday\, February 14th\, 6:00pm at the Harry M. Cornell Arts & Entertainment Complex! This family-friendly\, interactive hip-hop performance combines music\, storytelling\, dance\, and imagination to encourage kids to value their unique individuality. Tickets are available at connect2culture.org/tickets or (417) 501-5550.
X-ALT-DESC;FMTTYPE=text/html:Connect2Culture presents The Secret Agency on Tuesday\, February 14th\, 6:00pm at the Harry M. Cornell Arts &amp\; Entertainment Complex! This family-friendly\, interactive hip-hop performance combines music\, storytelling\, dance\, and imagination to encourage kids to value their unique individuality. Tickets are available at connect2culture.org/tickets or (417) 501-5550.
LOCATION:Harry M. Cornell Arts & Entertainment Complex located at 212 West 7th Street\, Joplin\, MO 64801
UID:e.2144.9081
SEQUENCE:3
DTSTAMP:20260426T021357Z
URL:https://www.neoshocc.com/events/details/the-secret-agency-9081
END:VEVENT

END:VCALENDAR
