BEGIN:VCALENDAR
VERSION:2.0
PRODID:-//ChamberMaster//Event Calendar 2.0//EN
METHOD:PUBLISH
X-PUBLISHED-TTL:P3D
REFRESH-INTERVAL:P3D
CALSCALE:GREGORIAN
BEGIN:VEVENT
DTSTART:20241114T160000Z
DTEND:20241114T170000Z
X-MICROSOFT-CDO-ALLDAYEVENT:FALSE
SUMMARY:The Toenut Shop - Ribbon Cutting
DESCRIPTION:Join us for a Ribbon Cutting Celebration for The Toenut Shop!
X-ALT-DESC;FMTTYPE=text/html:Join us for a Ribbon Cutting Celebration for The Toenut Shop!&nbsp\;&nbsp\;
LOCATION:2501 N. Rangeline\, Suite 5 Joplin\, MO
UID:e.2144.13924
SEQUENCE:3
DTSTAMP:20260424T173716Z
URL:https://www.neoshocc.com/events/details/the-toenut-shop-ribbon-cutting-13924
END:VEVENT

END:VCALENDAR
