BEGIN:VCALENDAR
VERSION:2.0
PRODID:-//ChamberMaster//Event Calendar 2.0//EN
METHOD:PUBLISH
X-PUBLISHED-TTL:P3D
REFRESH-INTERVAL:P3D
CALSCALE:GREGORIAN
BEGIN:VEVENT
DTSTART:20251025T150000Z
DTEND:20251025T200000Z
X-MICROSOFT-CDO-ALLDAYEVENT:FALSE
SUMMARY:The Wedding Market
DESCRIPTION:The Wedding Market is a pop up market for all things wedding! If you are searching for beautiful items at a discounted price for your special day\, this is the event for you! Come shop at the market!
X-ALT-DESC;FMTTYPE=text/html:The Wedding Market is a pop up market for all things wedding! If you are searching for beautiful items at a discounted price for your special day\, this is the event for you! Come shop at the market!
LOCATION:Neosho Civic Center 109 W Main St\, Neosho\, MO 64850
UID:e.2144.18542
SEQUENCE:3
DTSTAMP:20260424T014829Z
URL:https://www.neoshocc.com/events/details/the-wedding-market-18542
END:VEVENT

END:VCALENDAR
