BEGIN:VCALENDAR
VERSION:2.0
PRODID:-//ChamberMaster//Event Calendar 2.0//EN
METHOD:PUBLISH
X-PUBLISHED-TTL:P3D
REFRESH-INTERVAL:P3D
CALSCALE:GREGORIAN
BEGIN:VEVENT
DTSTART:20230923T150000Z
DTEND:20231015T050000Z
X-MICROSOFT-CDO-ALLDAYEVENT:FALSE
SUMMARY:Thomas Hart Benton Youth Art Competition and Exhibition
DESCRIPTION:Neosho Arts Council has unveiled a new competitive art event for area youth. The "Thomas Hart Benton Youth Art Competition and Exhibition" will accept entries in a variety of 2D mediums from kid's age 8 to 12 and teens age 13 to 17.\n\n\n\nThe works will hang for two weeks on public display at the Neosho National Fish Hatchery.\n\n\n\nThere is no entry fee for either division and no residency requirements. Up to three entries will be accepted per young artist. Works can be dropped off and entered September 23   28 at the Neosho National Fish Hatchery\, McKinney St./Hwy 86\, Neosho\, MO 64850\,  Monday - Friday\, 8:00 a.m. - 4:30 p.m. and Saturday - Sunday\, 10:00 a.m. - 4:00 p.m.\n\n\n\nAwards will be presented on October 7 at 2:30pm at the Neosho Fish National Fish Hatchery as part of the Neosho Fall Festival. The Neosho Arts Council will be holding their annual kids\, teens\, and adult Sidewalk Chalk Art Contest on the Square at 10:00am the same day.\n\n\n\nFull details about entry can be found online at neoshoarts.net.
X-ALT-DESC;FMTTYPE=text/html:<span style="font-family:calibri\,sans-serif"><span style="font-size:11.0pt">Neosho Arts Council has unveiled a new competitive art event for area youth. The &ldquo\;Thomas Hart Benton Youth Art Competition and Exhibition&rdquo\; will accept entries in a variety of 2D mediums from kid&rsquo\;s age 8 to 12 and teens age 13 to 17.</span></span><br />\n<br />\nThe works will hang for two weeks on public display at the Neosho National Fish Hatchery.<br />\n<br />\nThere is no entry fee for either division and no residency requirements. Up to three entries will be accepted per young artist. Works can be dropped off and entered September 23 &ndash\; 28 at the Neosho National Fish Hatchery\, McKinney St./Hwy 86\, Neosho\, MO 64850\, &nbsp\;Monday - Friday\, 8:00 a.m. - 4:30 p.m. and Saturday - Sunday\, 10:00 a.m. - 4:00 p.m.<br />\n<br />\nAwards will be presented on October 7 at 2:30pm at the Neosho Fish National Fish Hatchery as part of the Neosho Fall Festival. The Neosho Arts Council will be holding their annual kids\, teens\, and adult Sidewalk Chalk Art Contest on the Square at 10:00am the same day.<br />\n<br />\nFull details about entry can be found online at neoshoarts.net.<br />\n<br />\n&nbsp\;
LOCATION:Neosho National Fish Hatchery\, McKinney St./Hwy 86\, Neosho\, MO 64850
UID:e.2144.10727
SEQUENCE:3
DTSTAMP:20260425T122138Z
URL:https://www.neoshocc.com/events/details/thomas-hart-benton-youth-art-competition-and-exhibition-10727
END:VEVENT

END:VCALENDAR
