BEGIN:VCALENDAR
VERSION:2.0
PRODID:-//ChamberMaster//Event Calendar 2.0//EN
METHOD:PUBLISH
X-PUBLISHED-TTL:P3D
REFRESH-INTERVAL:P3D
CALSCALE:GREGORIAN
BEGIN:VEVENT
DTSTART:20240420T160000Z
DTEND:20240420T230000Z
X-MICROSOFT-CDO-ALLDAYEVENT:FALSE
SUMMARY:Time to Share on the Square
DESCRIPTION:A Time to Share on the Square is a fashion show at Eastside Social that benefits the Breast Cancer Foundation of the Ozarks\n\n\n\nEvent Highlights\n\n? Participating businesses will be selling Pink Ribbons. One for $5.00 or six for $20.\n\n? Discount cards to multiple local businesses are $20\n\n? Discount cards and Pink Ribbons can be purchased beginning March 11th - April 19th\n\nParticipating Businesses:\n\nEastside Social Magnolia & Sunshine Downtown Nutrition Briar & Thistle Past to Present VIntage\n\nSpa Annalise Sam's Cellar Indian Springs Brewing Company A-Ray's Desserts Hughes Brothers\n\nTotem Paul Guitar Salon 109 The Farmstead Market Rowe Boutique Miss Daisy's Home & Decor Co.\n\nMammogram Bus\n\nThe Mammogram Bus will be available from 11:00 AM - 5:00 PM. To schedule a mammogram\, please contact\n\nRegina Hammons at regina@bcfo.org. All insurance welcome and underinsured and uninsured.\n\nFashion Show\n\nFrom 2:00 PM - 4:00 PM held at Eastside Social\, there will be a fashion show featuring the latest spring styles from local boutiques. All the models are breast cancer survivors! Tickets are $30 and include a discount card\, drink coupon\, and a gift bag.\n\nFood\n\nAppetizers from local restaurants will be served during the fashion show.\n\n\n\nParticipate in our raffle for a chance to win fantastic prizes.
X-ALT-DESC;FMTTYPE=text/html:<span style="background-color:rgb(255\, 255\, 255)\; color:rgb(5\, 5\, 5)\; font-family:segoe ui historic\,segoe ui\,helvetica\,arial\,sans-serif\; font-size:15px"><strong>A Time to Share on the Square is a fashion show at Eastside Social that benefits the Breast Cancer Foundation of the Ozarks</strong><br />\n<br />\n<strong>Event Highlights</strong></span><br />\n<span style="background-color:rgb(255\, 255\, 255)\; color:rgb(5\, 5\, 5)\; font-family:segoe ui historic\,segoe ui\,helvetica\,arial\,sans-serif\; font-size:15px">? Participating businesses will be selling Pink Ribbons. One for $5.00 or six for $20.</span><br />\n<span style="background-color:rgb(255\, 255\, 255)\; color:rgb(5\, 5\, 5)\; font-family:segoe ui historic\,segoe ui\,helvetica\,arial\,sans-serif\; font-size:15px">? Discount cards to multiple local businesses are $20</span><br />\n<span style="background-color:rgb(255\, 255\, 255)\; color:rgb(5\, 5\, 5)\; font-family:segoe ui historic\,segoe ui\,helvetica\,arial\,sans-serif\; font-size:15px">? Discount cards and Pink Ribbons can be purchased beginning March 11th - April 19th</span><br />\n<span style="color:rgb(5\, 5\, 5)\; font-family:segoe ui historic\,segoe ui\,helvetica\,arial\,sans-serif\; font-size:15px"><strong>Participating Businesses:</strong></span><br />\n<span style="background-color:rgb(255\, 255\, 255)\; color:rgb(5\, 5\, 5)\; font-family:segoe ui historic\,segoe ui\,helvetica\,arial\,sans-serif\; font-size:15px">Eastside Social Magnolia &amp\; Sunshine Downtown Nutrition Briar &amp\; Thistle Past to Present VIntage</span><br />\n<span style="background-color:rgb(255\, 255\, 255)\; color:rgb(5\, 5\, 5)\; font-family:segoe ui historic\,segoe ui\,helvetica\,arial\,sans-serif\; font-size:15px">Spa Annalise Sam&rsquo\;s Cellar Indian Springs Brewing Company A-Ray&rsquo\;s Desserts Hughes Brothers</span><br />\n<span style="background-color:rgb(255\, 255\, 255)\; color:rgb(5\, 5\, 5)\; font-family:segoe ui historic\,segoe ui\,helvetica\,arial\,sans-serif\; font-size:15px">Totem Paul Guitar Salon 109 The Farmstead Market Rowe Boutique Miss Daisy&rsquo\;s Home &amp\; Decor Co.</span><br />\n<strong><span style="background-color:rgb(255\, 255\, 255)\; color:rgb(5\, 5\, 5)\; font-family:segoe ui historic\,segoe ui\,helvetica\,arial\,sans-serif\; font-size:15px">Mammogram Bus</span></strong><br />\n<span style="background-color:rgb(255\, 255\, 255)\; color:rgb(5\, 5\, 5)\; font-family:segoe ui historic\,segoe ui\,helvetica\,arial\,sans-serif\; font-size:15px">The Mammogram Bus will be available from 11:00 AM - 5:00 PM. To schedule a mammogram\, please contact</span><br />\n<span style="background-color:rgb(255\, 255\, 255)\; color:rgb(5\, 5\, 5)\; font-family:segoe ui historic\,segoe ui\,helvetica\,arial\,sans-serif\; font-size:15px">Regina Hammons at regina@bcfo.org. All insurance welcome and underinsured and uninsured.</span><br />\n<strong><span style="background-color:rgb(255\, 255\, 255)\; color:rgb(5\, 5\, 5)\; font-family:segoe ui historic\,segoe ui\,helvetica\,arial\,sans-serif\; font-size:15px">Fashion Show</span></strong><br />\n<span style="background-color:rgb(255\, 255\, 255)\; color:rgb(5\, 5\, 5)\; font-family:segoe ui historic\,segoe ui\,helvetica\,arial\,sans-serif\; font-size:15px">From 2:00 PM - 4:00 PM held at Eastside Social\, there will be a fashion show featuring the latest spring styles&nbsp\;</span><span style="background-color:rgb(255\, 255\, 255)\; color:rgb(5\, 5\, 5)\; font-family:segoe ui historic\,segoe ui\,helvetica\,arial\,sans-serif\; font-size:15px">from local boutiques. All the models are breast cancer survivors! Tickets are $30 and include a discount card\,&nbsp\;</span><span style="background-color:rgb(255\, 255\, 255)\; color:rgb(5\, 5\, 5)\; font-family:segoe ui historic\,segoe ui\,helvetica\,arial\,sans-serif\; font-size:15px">drink coupon\, and a gift bag.</span><br />\n<strong><span style="background-color:rgb(255\, 255\, 255)\; color:rgb(5\, 5\, 5)\; font-family:segoe ui historic\,segoe ui\,helvetica\,arial\,sans-serif\; font-size:15px">Food</span></strong><br />\n<span style="background-color:rgb(255\, 255\, 255)\; color:rgb(5\, 5\, 5)\; font-family:segoe ui historic\,segoe ui\,helvetica\,arial\,sans-serif\; font-size:15px">Appetizers from local restaurants will be served during the fashion show.</span><br />\n<br />\n<span style="background-color:rgb(255\, 255\, 255)\; color:rgb(5\, 5\, 5)\; font-family:segoe ui historic\,segoe ui\,helvetica\,arial\,sans-serif\; font-size:15px">Participate in our raffle for a chance to win fantastic prizes.</span>
LOCATION:Eastside Social 113 S Washington St Neosho\, Mo
UID:e.2144.11505
SEQUENCE:3
DTSTAMP:20260425T031340Z
URL:https://www.neoshocc.com/events/details/time-to-share-on-the-square-11505
END:VEVENT

END:VCALENDAR
