BEGIN:VCALENDAR
VERSION:2.0
PRODID:-//ChamberMaster//Event Calendar 2.0//EN
METHOD:PUBLISH
X-PUBLISHED-TTL:P3D
REFRESH-INTERVAL:P3D
CALSCALE:GREGORIAN
BEGIN:VEVENT
DTSTART:20230913T160000Z
DTEND:20230913T200000Z
X-MICROSOFT-CDO-ALLDAYEVENT:FALSE
SUMMARY:Trackside BBQ Food Truck @ Antique-Ish
DESCRIPTION:Trackside BBQ Food truck is at Antique-Ish every Wednesday from 11:00am to 3:00pm!  Also watch our Facebook page for updates\, giveaways\, and deals!
X-ALT-DESC;FMTTYPE=text/html:Trackside BBQ Food truck is at Antique-Ish every Wednesday from 11:00am to 3:00pm!&nbsp\; Also watch our Facebook page for updates\, giveaways\, and deals!
LOCATION:Antique-ish 840 W Harmony St. Neosho\, MO1
UID:e.2144.9438
SEQUENCE:3
DTSTAMP:20260425T154743Z
URL:https://www.neoshocc.com/events/details/trackside-bbq-food-truck-antique-ish-09-13-2023-9438
END:VEVENT

END:VCALENDAR
