BEGIN:VCALENDAR
VERSION:2.0
PRODID:-//ChamberMaster//Event Calendar 2.0//EN
METHOD:PUBLISH
X-PUBLISHED-TTL:P3D
REFRESH-INTERVAL:P3D
CALSCALE:GREGORIAN
BEGIN:VEVENT
DTSTART:20231031T220000Z
DTEND:20231101T020000Z
X-MICROSOFT-CDO-ALLDAYEVENT:FALSE
SUMMARY:Truck or Treat
DESCRIPTION:Shoe Sensation and Daily Deals are hosting a truck or treat on Halloween in the shared parking lot of both businesses.
X-ALT-DESC;FMTTYPE=text/html:Shoe Sensation and Daily Deals are hosting a truck or treat on Halloween in the shared parking lot of both businesses.
LOCATION:1166 S. Neosho Blvd & 1156 S. Neosho Blvd Neosho\, MO 64850
UID:e.2144.10762
SEQUENCE:3
DTSTAMP:20260425T121846Z
URL:https://www.neoshocc.com/events/details/truck-or-treat-10762
END:VEVENT

END:VCALENDAR
