BEGIN:VCALENDAR
VERSION:2.0
PRODID:-//ChamberMaster//Event Calendar 2.0//EN
METHOD:PUBLISH
X-PUBLISHED-TTL:P3D
REFRESH-INTERVAL:P3D
CALSCALE:GREGORIAN
BEGIN:VEVENT
DTSTART;VALUE=DATE:20241129
DTEND;VALUE=DATE:20241201
TRANSP:TRANSPARENT
X-MICROSOFT-CDO-ALLDAYEVENT:TRUE
SUMMARY:Turkey Day Tan Celebration Event - Hands & Tans
DESCRIPTION:Hands & Tans Announces a Turkey Day Tan Celebration Event!  A whole day filled with Tanning & massage teasers!  Friday & Saturday 9 am to 5 pm!
X-ALT-DESC;FMTTYPE=text/html:Hands &amp\; Tans Announces a Turkey Day Tan Celebration Event!&nbsp\; A whole day filled with Tanning &amp\; massage teasers!&nbsp\; Friday &amp\; Saturday 9 am to 5 pm!
LOCATION:Hands & Tans LLC 3275 Lusk Drive Neosho\, MO 64850
UID:e.2144.14152
SEQUENCE:3
DTSTAMP:20260424T173547Z
URL:https://www.neoshocc.com/events/details/turkey-day-tan-celebration-event-hands-tans-14152
END:VEVENT

END:VCALENDAR
