BEGIN:VCALENDAR
VERSION:2.0
PRODID:-//ChamberMaster//Event Calendar 2.0//EN
METHOD:PUBLISH
X-PUBLISHED-TTL:P3D
REFRESH-INTERVAL:P3D
CALSCALE:GREGORIAN
BEGIN:VEVENT
DTSTART:20251103T060000Z
DTEND:20251124T060000Z
X-MICROSOFT-CDO-ALLDAYEVENT:FALSE
SUMMARY:Turkey in Disguise
DESCRIPTION:Turkey in Disguise!! \n\n \n\nwe're on the hunt for the best-dressed turkey\, and it could be yours!\n\n \n\nHow to enter:\n\n \n\n- Pick up your Turkey template from the Neosho Newton County Library on November 3rd.\n\n \n\n- Get your turkey all dressed up and ready to drop it off by November 22nd (before noon)!\n\n \n\n- Winners will be announced November 24th and each winner gets a $25 Walmart gift card! \n\n \n\nAges 3 to 18+ are welcome to enter in this competition   let your imagination run wild!\n\n \n\nWho's ready to make the most fabulous\, sneaky turkey in town?
X-ALT-DESC;FMTTYPE=text/html:<div>Turkey in Disguise!!&nbsp\;</div>\n\n<div>&nbsp\;</div>\n\n<div>we&rsquo\;re on the hunt for the best-dressed turkey\, and it could be yours!</div>\n\n<div>&nbsp\;</div>\n\n<div>How to enter:</div>\n\n<div>&nbsp\;</div>\n\n<div>- Pick up your Turkey template from the Neosho Newton County Library on November 3rd.</div>\n\n<div>&nbsp\;</div>\n\n<div>- Get your turkey all dressed up and ready to drop it off by November 22nd (before noon)!</div>\n\n<div>&nbsp\;</div>\n\n<div>- Winners will be announced November 24th and each winner gets a $25 Walmart gift card!&nbsp\;</div>\n\n<div>&nbsp\;</div>\n\n<div>Ages 3 to 18+ are welcome to enter in this competition &ndash\; let your imagination run wild!</div>\n\n<div>&nbsp\;</div>\n\n<div>Who&rsquo\;s ready to make the most fabulous\, sneaky turkey in town?</div>\n
LOCATION:201 W Spring St Neosho\, MO 64850
UID:e.2144.18513
SEQUENCE:3
DTSTAMP:20260424T002751Z
URL:https://www.neoshocc.com/events/details/turkey-in-disguise-18513
END:VEVENT

END:VCALENDAR
