BEGIN:VCALENDAR
VERSION:2.0
PRODID:-//ChamberMaster//Event Calendar 2.0//EN
METHOD:PUBLISH
X-PUBLISHED-TTL:P3D
REFRESH-INTERVAL:P3D
CALSCALE:GREGORIAN
BEGIN:VEVENT
DTSTART:20260503T060000Z
DTEND:20260503T070000Z
X-MICROSOFT-CDO-ALLDAYEVENT:FALSE
SUMMARY:Turn Conflict Into Connection: Cultivating Harmony in Relationships
DESCRIPTION:Turn Conflict Into Connection: Cultivating Harmony in Relationships\n\nDate: Sunday\, May 3   1 2 PM CST\n\nShort Promo:\n\nConflict doesn't break relationships   avoidance does.\n\nLet's turn challenges into closeness.\n\nEvent Description:\n\nIn this powerful emotional intelligence workshop\, you'll learn how to navigate conflict with clarity\, compassion\, and confidence. Instead of reacting\, you'll learn to connect.\n\nYou'll walk away with tools that strengthen every relationship in your life.\n\nYou'll Learn:\n\n  How to stay calm during conflict\n\n  Communication strategies that deepen understanding\n\n  Tools to turn challenges into growth\n\nWho This Is For:\n\nCouples\, parents\, leaders\, families\, and anyone wanting healthier communication.\n\nCTA:\n\nJoin us and transform the way you relate.\n\nhttps://www.livebliss.org/event-details/turn-conflict-into-connection-cultivating-harmony-in-relationships
X-ALT-DESC;FMTTYPE=text/html:<h3><span style="color:rgb(0\, 0\, 0)"><span style="color:rgb(67\, 67\, 67)\; font-family:arial\,sans-serif\; font-size:14pt">Turn Conflict Into Connection: Cultivating Harmony in Relationships</span></span></h3>\n\n<p><span style="color:rgb(0\, 0\, 0)"><strong>Date:</strong><span style="font-family:tenor sans\,sans-serif\; font-size:11pt"> Sunday\, May 3 &bull\; 1&ndash\;2 PM CST</span></span></p>\n\n<p><span style="color:rgb(0\, 0\, 0)"><strong>Short Promo:</strong></span></p>\n\n<p><span style="color:rgb(0\, 0\, 0)"><span style="font-family:tenor sans\,sans-serif\; font-size:11pt">Conflict doesn&rsquo\;t break relationships &mdash\; avoidance does.</span></span></p>\n\n<p><span style="color:rgb(0\, 0\, 0)"><span style="font-family:tenor sans\,sans-serif\; font-size:11pt">Let&rsquo\;s turn challenges into closeness.</span></span></p>\n\n<p><span style="color:rgb(0\, 0\, 0)"><strong>Event Description:</strong></span></p>\n\n<p><span style="color:rgb(0\, 0\, 0)"><span style="font-family:tenor sans\,sans-serif\; font-size:11pt">In this powerful emotional intelligence workshop\, you&rsquo\;ll learn how to navigate conflict with clarity\, compassion\, and confidence. Instead of reacting\, you&rsquo\;ll learn to connect.</span></span></p>\n\n<p><span style="color:rgb(0\, 0\, 0)"><span style="font-family:tenor sans\,sans-serif\; font-size:11pt">You&rsquo\;ll walk away with tools that strengthen every relationship in your life.</span></span></p>\n\n<p><span style="color:rgb(0\, 0\, 0)"><strong>You&rsquo\;ll Learn:</strong></span></p>\n\n<p><span style="color:rgb(0\, 0\, 0)"><span style="font-family:tenor sans\,sans-serif\; font-size:11pt">&bull\; How to stay calm during conflict</span></span></p>\n\n<p><span style="color:rgb(0\, 0\, 0)"><span style="font-family:tenor sans\,sans-serif\; font-size:11pt">&bull\; Communication strategies that deepen understanding</span></span></p>\n\n<p><span style="color:rgb(0\, 0\, 0)"><span style="font-family:tenor sans\,sans-serif\; font-size:11pt">&bull\; Tools to turn challenges into growth</span></span></p>\n\n<p><span style="color:rgb(0\, 0\, 0)"><strong>Who This Is For:</strong></span></p>\n\n<p><span style="color:rgb(0\, 0\, 0)"><span style="font-family:tenor sans\,sans-serif\; font-size:11pt">Couples\, parents\, leaders\, families\, and anyone wanting healthier communication.</span></span></p>\n\n<p><span style="color:rgb(0\, 0\, 0)"><strong>CTA:</strong></span></p>\n\n<p><span style="color:rgb(0\, 0\, 0)"><span style="font-family:tenor sans\,sans-serif\; font-size:11pt">Join us and transform the way you relate.</span></span></p>\n\n<p><span style="color:rgb(0\, 0\, 0)"><a href="https://www.livebliss.org/event-details/turn-conflict-into-connection-cultivating-harmony-in-relationships" style="text-decoration: none\;"><u>https://www.livebliss.org/event-details/turn-conflict-into-connection-cultivating-harmony-in-relationships</u></a></span></p>\n
LOCATION:404 S Neosho Blvd Suite D Neosho MO 64850
UID:e.2144.18841
SEQUENCE:3
DTSTAMP:20260423T144033Z
URL:https://www.neoshocc.com/events/details/turn-conflict-into-connection-cultivating-harmony-in-relationships-18841
END:VEVENT

END:VCALENDAR
