BEGIN:VCALENDAR
VERSION:2.0
PRODID:-//ChamberMaster//Event Calendar 2.0//EN
METHOD:PUBLISH
X-PUBLISHED-TTL:P3D
REFRESH-INTERVAL:P3D
CALSCALE:GREGORIAN
BEGIN:VEVENT
DTSTART;VALUE=DATE:20250719
DTEND;VALUE=DATE:20250720
TRANSP:TRANSPARENT
X-MICROSOFT-CDO-ALLDAYEVENT:TRUE
SUMMARY:TY Ellis and The Flatliners
DESCRIPTION:Ty Ellis & The Flatliners are a Red Dirt Country band based out of Pittsburg\, KS. Led by frontman Ty Ellis\, the band delivers an authentic blend of powerful\, gritty vocals & electrifying instrumentals that resonate with audiences far and wide. With influences ranging from classic country to southern rock\, Ty Ellis & The Flatliners bring a fresh perspective to the red dirt country scene\, captivating audiences with their high-energy performances and unwavering passion for music. Ty Ellis & the Flatliners have also had the pleasure of sharing the stage with National Artists\, such as Casey Donahew\, Austin Meade\, Cam Allen\, Bart Crow\, Joe Stamm Band\, and more.
X-ALT-DESC;FMTTYPE=text/html:<span style="background-color:rgb(107\, 39\, 38)\; color:rgb(220\, 73\, 71)\; font-family:acumin-pro\; font-size:16.16px">Ty Ellis &amp\; The Flatliners are a Red Dirt Country band based out of Pittsburg\, KS. Led by frontman Ty Ellis\, the band delivers an authentic blend of powerful\, gritty vocals &amp\; electrifying instrumentals that resonate with audiences far and wide. With influences ranging from classic country to southern rock\, Ty Ellis &amp\; The Flatliners bring a fresh perspective to the red dirt country scene\, captivating audiences with their high-energy performances and unwavering passion for music. Ty Ellis &amp\; the Flatliners have also had the pleasure of sharing the stage with National Artists\, such as Casey Donahew\, Austin Meade\, Cam Allen\, Bart Crow\, Joe Stamm Band\, and more.&nbsp\;</span>
LOCATION:200 E Spring Street Neosho\, MO 64850
UID:e.2144.17546
SEQUENCE:3
DTSTAMP:20260424T073747Z
URL:https://www.neoshocc.com/events/details/ty-ellis-and-the-flatliners-17546
END:VEVENT

END:VCALENDAR
