BEGIN:VCALENDAR
VERSION:2.0
PRODID:-//ChamberMaster//Event Calendar 2.0//EN
METHOD:PUBLISH
X-PUBLISHED-TTL:P3D
REFRESH-INTERVAL:P3D
CALSCALE:GREGORIAN
BEGIN:VEVENT
DTSTART;VALUE=DATE:20250214
DTEND;VALUE=DATE:20250217
TRANSP:TRANSPARENT
X-MICROSOFT-CDO-ALLDAYEVENT:TRUE
SUMMARY:Valentine's Axe Throwing and Dinner for 2\, Only $79.00
DESCRIPTION:Valentine's Axe Throwing and Gourmet Dinner for 2\, Only $79.00.  Limited Seating for February 14th & 15th\, at 5pm and 7pm.\n\nSunday 16th @ 3pm and 6pm.  Chef Brian will be serving your choice of Demi Glazed Certified Angus Beef Tenderloin or Boursin Stuffed Chicken Breast\, Salad\, Sides\, and Decadent Chocolate/Raspberry Torte for two!
X-ALT-DESC;FMTTYPE=text/html:Valentine&#39\;s Axe Throwing and Gourmet Dinner for 2\, Only $79.00.&nbsp\; Limited Seating for February 14th &amp\; 15th\, at 5pm and 7pm.<br />\nSunday 16th @ 3pm and 6pm.&nbsp\; Chef Brian will be serving your choice of Demi Glazed Certified Angus Beef Tenderloin or Boursin Stuffed Chicken Breast\, Salad\, Sides\, and Decadent Chocolate/Raspberry Torte for two!&nbsp\;
LOCATION:Anvil Axe Co 7837 Gateway Drive Neosho\, MO 64850
UID:e.2144.14905
SEQUENCE:3
DTSTAMP:20260424T133010Z
URL:https://www.neoshocc.com/events/details/valentine-s-axe-throwing-and-dinner-for-2-only-79-00-14905
END:VEVENT

END:VCALENDAR
