BEGIN:VCALENDAR
VERSION:2.0
PRODID:-//ChamberMaster//Event Calendar 2.0//EN
METHOD:PUBLISH
X-PUBLISHED-TTL:P3D
REFRESH-INTERVAL:P3D
CALSCALE:GREGORIAN
BEGIN:VEVENT
DTSTART;VALUE=DATE:20260129
DTEND;VALUE=DATE:20260210
TRANSP:TRANSPARENT
X-MICROSOFT-CDO-ALLDAYEVENT:TRUE
SUMMARY:Valentine's Axe Throwing and Dinner for Two just $95.00
DESCRIPTION:Valentine's Axe Throwing and Dinner for Two just $95.00\n\n\n\nAxe Throwing at your leisure and the Chef will offer your choice of Registered Angus Beef Tenderloin in Red Wine Demi Glace' or Boursin Stuffed Chicken Breast with Garlic Cream Sauce\, Sides\, Salad and Decadent Sacher Torte for Two.
X-ALT-DESC;FMTTYPE=text/html:Valentine&#39\;s Axe Throwing and Dinner for Two just $95.00<br />\n<br />\nAxe Throwing at your leisure and the Chef will offer your choice of Registered Angus Beef Tenderloin in Red Wine Demi Glace&#39\; or Boursin Stuffed Chicken Breast with Garlic Cream Sauce\, Sides\, Salad and Decadent Sacher Torte for Two.<br />\n<br />\n&nbsp\;
LOCATION:Anvil Axe Co 7837 Gateway Drive Neosho\, Mo 64850
UID:e.2144.18930
SEQUENCE:3
DTSTAMP:20260423T210601Z
URL:https://www.neoshocc.com/events/details/valentine-s-axe-throwing-and-dinner-for-two-just-95-00-18930
END:VEVENT

END:VCALENDAR
