BEGIN:VCALENDAR
VERSION:2.0
PRODID:-//ChamberMaster//Event Calendar 2.0//EN
METHOD:PUBLISH
X-PUBLISHED-TTL:P3D
REFRESH-INTERVAL:P3D
CALSCALE:GREGORIAN
BEGIN:VEVENT
DTSTART;VALUE=DATE:20260213
DTEND;VALUE=DATE:20260215
TRANSP:TRANSPARENT
X-MICROSOFT-CDO-ALLDAYEVENT:TRUE
SUMMARY:Valentine's Special at Eastside Social
DESCRIPTION:Looking for the perfect way to treat your sweetheart? Eastside Social has you covered.\n\nJoin us on February 13th and 14th for our Valentine's Day Special\, featuring a thoughtfully prepared three-course meal with your choice of soup or salad\, salmon or steak Oscar\, and dessert.\n\nWe look forward to welcoming you and your special someone for a memorable Valentine's celebration.\n\nSee you downtown at Eastside Social.
X-ALT-DESC;FMTTYPE=text/html:<p>Looking for the perfect way to treat your sweetheart? Eastside Social has you covered.</p>\n\n<p>Join us on <strong>February 13th and 14th</strong> for our <strong>Valentine&rsquo\;s Day Special</strong>\, featuring a thoughtfully prepared three-course meal with your choice of soup or salad\, salmon or steak Oscar\, and dessert.</p>\n\n<p>We look forward to welcoming you and your special someone for a memorable Valentine&rsquo\;s celebration.<br />\n<strong>See you downtown at Eastside Social.</strong></p>\n
LOCATION:Eastside Social 113 S Washington St\, Neosho\, Mo
UID:e.2144.19143
SEQUENCE:3
DTSTAMP:20260423T210721Z
URL:https://www.neoshocc.com/events/details/valentine-s-special-at-eastside-social-19143
END:VEVENT

END:VCALENDAR
