BEGIN:VCALENDAR
VERSION:2.0
PRODID:-//ChamberMaster//Event Calendar 2.0//EN
METHOD:PUBLISH
X-PUBLISHED-TTL:P3D
REFRESH-INTERVAL:P3D
CALSCALE:GREGORIAN
BEGIN:VEVENT
DTSTART:20241108T150000Z
DTEND:20241108T160000Z
X-MICROSOFT-CDO-ALLDAYEVENT:FALSE
SUMMARY:Veteran's Breakfast at Oak Point
DESCRIPTION:Join us for a special Veterans Breakfast as we honor and celebrate those who have bravely served our country. Enjoy a delicious breakfast spread while we express our deepest gratitude and appreciation for your service!
X-ALT-DESC;FMTTYPE=text/html:Join us for a special Veterans Breakfast as we honor and celebrate those who have bravely served our country. Enjoy a delicious breakfast spread while we express our deepest gratitude and appreciation for your service!&nbsp\;
LOCATION:Oak Point of Neosho 2601 Oak Ridge Ext.\, Neosho\, Mo. 64850
UID:e.2144.13914
SEQUENCE:3
DTSTAMP:20260424T173528Z
URL:https://www.neoshocc.com/events/details/veteran-s-breakfast-at-oak-point-13914
END:VEVENT

END:VCALENDAR
