BEGIN:VCALENDAR
VERSION:2.0
PRODID:-//ChamberMaster//Event Calendar 2.0//EN
METHOD:PUBLISH
X-PUBLISHED-TTL:P3D
REFRESH-INTERVAL:P3D
CALSCALE:GREGORIAN
BEGIN:VEVENT
DTSTART:20231014T000000Z
DTEND:20231014T020000Z
X-MICROSOFT-CDO-ALLDAYEVENT:FALSE
SUMMARY:Voctave: The Corner Of Broadway & Main Street
DESCRIPTION:With a success story that sounds like a fairytale\, it's fitting Voctave began at Disney World. Many members of this popular\, a cappella group got their start as Disney's Voices of Liberty at Epcot Center. In 2015\, the group organized independently to create magical arrangements of classic Disney songs and popular Broadway hits. By 2016\, Voctave's stunning musical adaptations had earned a well-deserved spot in the limelight. Their arrangements have featured award-winning singers from all genres\, including Pentatonix's Kirstin Maldonado. Today\, Voctave's videos have gone viral\, receiving a staggering 100 million views on YouTube/Facebook. With seven albums\, the group continues to create and perform an ever-expanding range of sophisticated a cappella music. From gospel music to musical theater\, contemporary Christian to barbershop\, pop music to choral classics\, Voctave voices have covered it all.
X-ALT-DESC;FMTTYPE=text/html:With a success story that sounds like a fairytale\, it&rsquo\;s fitting Voctave began at Disney World. Many members of this popular\, a cappella group got their start as Disney&rsquo\;s Voices of Liberty at Epcot Center. In 2015\, the group organized independently to create magical arrangements of classic Disney songs and popular Broadway hits. By 2016\, Voctave&rsquo\;s stunning musical adaptations had earned a well-deserved spot in the limelight. Their arrangements have featured award-winning singers from all genres\, including Pentatonix&rsquo\;s Kirstin Maldonado. Today\, Voctave&rsquo\;s videos have gone viral\, receiving a staggering 100 million views on YouTube/Facebook. With seven albums\, the group continues to create and perform an ever-expanding range of sophisticated a cappella music. From gospel music to musical theater\, contemporary Christian to barbershop\, pop music to choral classics\, Voctave voices have covered it all.
LOCATION:Harry M. Cornell Arts & Entertainment Complex located at 212 West 7th Street Joplin\, MO 64801
UID:e.2144.10786
SEQUENCE:3
DTSTAMP:20260425T141102Z
URL:https://www.neoshocc.com/events/details/voctave-the-corner-of-broadway-main-street-10786
END:VEVENT

END:VCALENDAR
