BEGIN:VCALENDAR
VERSION:2.0
PRODID:-//ChamberMaster//Event Calendar 2.0//EN
METHOD:PUBLISH
X-PUBLISHED-TTL:P3D
REFRESH-INTERVAL:P3D
CALSCALE:GREGORIAN
BEGIN:VEVENT
DTSTART:20260929T220000Z
DTEND:20260929T233000Z
X-MICROSOFT-CDO-ALLDAYEVENT:FALSE
SUMMARY:Volleyball League at Neosho Family YMCA
DESCRIPTION:Serve up fun with YMCA Volleyball League! With an emphasis on staying active and having fun\, our adult volleyball league is the perfect social and athletic activity for anyone! League will start in October and be every Tuesday night from 5:00 - 6:30 PM. Bring the family and enjoy a fun-filled evening of youth development\, social responsibility\, and healthy living.
X-ALT-DESC;FMTTYPE=text/html:Serve up fun with YMCA Volleyball League! With an emphasis on staying active and having fun\, our adult volleyball league is the perfect social and athletic activity for anyone! League will start in October and be every Tuesday night from 5:00 - 6:30 PM. Bring the family and enjoy a fun-filled evening of youth development\, social responsibility\, and healthy living.&nbsp\;
LOCATION:Neosho Family YMCA
UID:e.2144.14031
SEQUENCE:3
DTSTAMP:20260423T222454Z
URL:https://www.neoshocc.com/events/details/volleyball-league-at-neosho-family-ymca-09-29-2026-14031
END:VEVENT

END:VCALENDAR
