BEGIN:VCALENDAR
VERSION:2.0
PRODID:-//ChamberMaster//Event Calendar 2.0//EN
METHOD:PUBLISH
X-PUBLISHED-TTL:P3D
REFRESH-INTERVAL:P3D
CALSCALE:GREGORIAN
BEGIN:VEVENT
DTSTART:20260128T133000Z
DTEND:20260128T150000Z
X-MICROSOFT-CDO-ALLDAYEVENT:FALSE
SUMMARY:Wake Up Wednesday
DESCRIPTION:Let's Talk About Neosho at Wake Up Wednesday!\n\nGuest Speaker: "The Middle of Everywhere" Documentary Crew\n\n	City of Neosho\n	Newton County\n	Neosho School District\n	Crowder College\n	Grow Neosho\n	Neosho Area Chamber of Commerce\n\n\nThank you to our amazing presenting sponsor\, Grey Oak Investments.
X-ALT-DESC;FMTTYPE=text/html:<strong>Let&rsquo\;s Talk About Neosho at Wake Up Wednesday!</strong><br />\n<b>Guest Speaker: &quot\;The Middle of Everywhere&quot\; Documentary Crew</b>\n<ul>\n	<li><strong>City of Neosho</strong></li>\n	<li><strong>Newton County</strong></li>\n	<li><strong>Neosho School District</strong></li>\n	<li><strong>Crowder College</strong></li>\n	<li><strong>Grow Neosho</strong></li>\n	<li><strong>Neosho Area Chamber of Commerce</strong></li>\n</ul>\n\n<h3><span style="font-size: 13px\;">Thank you to our amazing presenting sponsor\, Grey Oak Investments.&nbsp\;</span></h3>\n
LOCATION:Crowder College | Farber Building | Wright Conference Room
UID:e.2144.18832
SEQUENCE:3
DTSTAMP:20260423T210328Z
URL:https://www.neoshocc.com/events/details/wake-up-wednesday-18832
END:VEVENT

END:VCALENDAR
