BEGIN:VCALENDAR
VERSION:2.0
PRODID:-//ChamberMaster//Event Calendar 2.0//EN
METHOD:PUBLISH
X-PUBLISHED-TTL:P3D
REFRESH-INTERVAL:P3D
CALSCALE:GREGORIAN
BEGIN:VEVENT
DTSTART:20250823T230000Z
DTEND:20250824T020000Z
X-MICROSOFT-CDO-ALLDAYEVENT:FALSE
SUMMARY:Wilkie Jay Live Music at Eastside Social
DESCRIPTION:Join us on the patio for a fun-filled Saturday night with live music from Wilkie Jay! Bringing high energy and a great mix of familiar tunes\, Wilkie knows how to keep the good vibes going. Pair the music with your favorite Eastside bites and drinks\, and you've got the perfect summer evening.
X-ALT-DESC;FMTTYPE=text/html:<span style="color:rgb(35\, 31\, 32)\; font-family:brandon-grotesque\; font-size:22.4px">Join us on the patio for a fun-filled </span><strong>Saturday night</strong><span style="color:rgb(35\, 31\, 32)\; font-family:brandon-grotesque\; font-size:22.4px"> with live music from </span><strong>Wilkie Jay</strong><span style="color:rgb(35\, 31\, 32)\; font-family:brandon-grotesque\; font-size:22.4px">! Bringing high energy and a great mix of familiar tunes\, Wilkie knows how to keep the good vibes going. Pair the music with your favorite Eastside bites and drinks\, and you&rsquo\;ve got the perfect summer evening.</span>
LOCATION:Eastside Social 113 S Washington St Neosho\, Mo
UID:e.2144.17552
SEQUENCE:3
DTSTAMP:20260424T043418Z
URL:https://www.neoshocc.com/events/details/wilkie-jay-live-music-at-eastside-social-08-23-2025-17552
END:VEVENT

END:VCALENDAR
