BEGIN:VCALENDAR
VERSION:2.0
PRODID:-//ChamberMaster//Event Calendar 2.0//EN
METHOD:PUBLISH
X-PUBLISHED-TTL:P3D
REFRESH-INTERVAL:P3D
CALSCALE:GREGORIAN
BEGIN:VEVENT
DTSTART:20241116T000000Z
DTEND:20241116T020000Z
X-MICROSOFT-CDO-ALLDAYEVENT:FALSE
SUMMARY:Wine Share at the Conservatory
DESCRIPTION:Join us for Historic Downtown Neosho's latest wine share event of the season\, hosted by 'Traveling Party' - a group of people that have decided wine\, laughter and life are best shared with others. It will be held at 'The Conservatory'\, downtown's newest event venue and community center.\n\nTake this opportunity to meet with friends and neighbors\, as well as with fellow downtown and history enthusiasts\, and explore the grounds of this historic property - originally the First Church of Christ\, Scientist\, built in 1928 - and learn a little about what is in store for this unique historical meeting place.\n\nThis is a come-and-go social event to meet folks and share a glass and a conversation. So\, bring a bottle of wine or something from your favorite local craft brewery to share and join us for a great evening!\n\nAdditionally\, we'll be collecting monetary donations to support the Newton County Food Basket Brigade for the upcoming 2024 holiday season!
X-ALT-DESC;FMTTYPE=text/html:<div background-color:="" class="xdj266r x11i5rnm xat24cr x1mh8g0r x1vvkbs" color:="" font-size:="" segoe="" style="margin: 0px\; overflow-wrap: break-word\; font-family: " ui="">Join us for Historic Downtown Neosho&#39\;s latest wine share event of the season\, hosted by &lsquo\;Traveling Party&#39\; - a group of people that have decided wine\, laughter and life are best shared with others. It will be held at &lsquo\;The Conservatory&#39\;\, downtown&#39\;s newest event venue and community center.</div>\n\n<div background-color:="" class="x11i5rnm xat24cr x1mh8g0r x1vvkbs xtlvy1s" color:="" font-size:="" segoe="" style="margin: 0.5em 0px 0px\; overflow-wrap: break-word\; font-family: " ui="">Take this opportunity to meet with friends and neighbors\, as well as with fellow downtown and history enthusiasts\, and explore the grounds of this historic property - originally the First Church of Christ\, Scientist\, built in 1928 - and learn a little about what is in store for this unique historical meeting place.</div>\n\n<div background-color:="" class="x11i5rnm xat24cr x1mh8g0r x1vvkbs xtlvy1s" color:="" font-size:="" segoe="" style="margin: 0.5em 0px 0px\; overflow-wrap: break-word\; font-family: " ui="">This is a come-and-go social event to meet folks and share a glass and a conversation. So\, bring a bottle of wine or something from your favorite local craft brewery to share and join us for a great evening!</div>\n\n<div background-color:="" class="x11i5rnm xat24cr x1mh8g0r x1vvkbs xtlvy1s" color:="" font-size:="" segoe="" style="margin: 0.5em 0px 0px\; overflow-wrap: break-word\; font-family: " ui="">Additionally\, we&rsquo\;ll be collecting monetary donations to support the Newton County Food Basket Brigade for the upcoming 2024 holiday season!</div>\n
LOCATION:The Conservatory 201 N Wood St\, Neosho\, MO
UID:e.2144.13932
SEQUENCE:3
DTSTAMP:20260424T173402Z
URL:https://www.neoshocc.com/events/details/wine-share-at-the-conservatory-13932
END:VEVENT

END:VCALENDAR
