BEGIN:VCALENDAR
VERSION:2.0
PRODID:-//ChamberMaster//Event Calendar 2.0//EN
METHOD:PUBLISH
X-PUBLISHED-TTL:P3D
REFRESH-INTERVAL:P3D
CALSCALE:GREGORIAN
BEGIN:VEVENT
DTSTART:20250308T000000Z
DTEND:20250308T020000Z
X-MICROSOFT-CDO-ALLDAYEVENT:FALSE
SUMMARY:Wine Share at the Masonic Lodge
DESCRIPTION:Join us for our first wine share event of the season\, hosted by Neosho Masonic Lodge #247\, whose history with Historic Downtown Neosho dates back to the early days of Newton County in the 1840's.\n\nTake this opportunity to meet with friends and neighbors\, as well as with fellow downtown and history enthusiasts\, visit with Lodge members\, and learn a little about the part the local chapter played in the early organizing of the community.\n\nThis is a come-and-go social event to meet folks and share a glass and a conversation. So\, bring a bottle of wine or something from your favorite local craft brewery to share and join us for a great evening!\n\n\n\nMore info at: https://www.facebook.com/events/1838043720279618
X-ALT-DESC;FMTTYPE=text/html:<div>Join us for our first wine share event of the season\, hosted by Neosho Masonic Lodge #247\, whose history with Historic Downtown Neosho dates back to the early days of Newton County in the 1840&#39\;s.</div>\n\n<div>Take this opportunity to meet with friends and neighbors\, as well as with fellow downtown and history enthusiasts\, visit with Lodge members\, and learn a little about the part the local chapter played in the early organizing of the community.</div>\n\n<div>This is a come-and-go social event to meet folks and share a glass and a conversation. So\, bring a bottle of wine or something from your favorite local craft brewery to share and join us for a great evening!</div>\n\n<div><br />\nMore info at:&nbsp\;<a href="https://www.facebook.com/events/1838043720279618" target="_blank">https://www.facebook.com/events/1838043720279618</a></div>\n
LOCATION:Neosho Masonic Lodge #247 4080 Laquesta Dr Neosho\, Missouri
UID:e.2144.14989
SEQUENCE:3
DTSTAMP:20260424T133101Z
URL:https://www.neoshocc.com/events/details/wine-share-at-the-masonic-lodge-14989
END:VEVENT

END:VCALENDAR
