BEGIN:VCALENDAR
VERSION:2.0
PRODID:-//ChamberMaster//Event Calendar 2.0//EN
METHOD:PUBLISH
X-PUBLISHED-TTL:P3D
REFRESH-INTERVAL:P3D
CALSCALE:GREGORIAN
BEGIN:VEVENT
DTSTART:20260225T160000Z
DTEND:20260225T180000Z
X-MICROSOFT-CDO-ALLDAYEVENT:FALSE
SUMMARY:Women in Business Monthly Meeting
DESCRIPTION:Grab brunch    and spark new connections with some seriously incredible women from our business community. Together\, we'll dream big\, shape the future of these events\, and create a space where we can truly grow together  .\n\nPresented by Vital Care of the Four States.\n\nA special thank you to our venue sponsor\, The Conservatory.
X-ALT-DESC;FMTTYPE=text/html:<p data-end="300" data-start="76"><span style="font-size:16px\;">Grab brunch &#129360\;&#9749\; and spark new connections with some seriously incredible women from our business community. Together\, we&rsquo\;ll dream big\, shape the future of these events\, and create a space where we can truly grow together &#127799\;.</span></p>\n\n<p data-end="410" data-is-last-node="" data-is-only-node="" data-start="302"><span style="font-size:16px\;">Presented by Vital Care of the Four States.<br data-end="348" data-start="345" />\nA special thank you to our venue sponsor\, The Conservatory.</span></p>\n
LOCATION:The Conservatory 201 N Wood St Neosho\, MO 64850
UID:e.2144.18920
SEQUENCE:3
DTSTAMP:20260423T194325Z
URL:https://www.neoshocc.com/events/details/women-in-business-monthly-meeting-18920
END:VEVENT

END:VCALENDAR
