BEGIN:VCALENDAR
VERSION:2.0
PRODID:-//ChamberMaster//Event Calendar 2.0//EN
METHOD:PUBLISH
X-PUBLISHED-TTL:P3D
REFRESH-INTERVAL:P3D
CALSCALE:GREGORIAN
BEGIN:VEVENT
DTSTART:20250622T190000Z
DTEND:20250622T200000Z
X-MICROSOFT-CDO-ALLDAYEVENT:FALSE
SUMMARY:Women Veterans Tea – Hosted by American Legion Auxiliary #163
DESCRIPTION:Women Veterans Tea   Hosted by American Legion Auxiliary #163\n\n  Date: Sunday\, June 22\, 2025\n\n  Time: 2:00 PM\n\n  Location: Neosho Civic Center\, 109 W Main St\, Neosho\, MO\n\nThe American Legion Auxiliary #163 warmly invites all women veterans in the area to a special afternoon tea in your honor. Join us as we celebrate your service and provide a space for connection\, appreciation\, and community.\n\nThis event is free to attend\, but RSVPs are appreciated. Please contact Ellen Arnce at (417) 850-5672 to confirm your attendance.\n\nCome enjoy refreshments\, camaraderie\, and heartfelt gratitude for your service. We look forward to honoring you!\n\n#WomenVeterans #VeteransTea #NeoshoMO #AmericanLegionAuxiliary #CommunityHonor #VeteranSupport
X-ALT-DESC;FMTTYPE=text/html:<p data-end="160" data-start="95"><strong data-end="160" data-start="95">Women Veterans Tea &ndash\; Hosted by American Legion Auxiliary #163</strong></p>\n\n<p data-end="287" data-start="162"><strong data-end="174" data-start="162">&#128197\; Date:</strong> Sunday\, June 22\, 2025<br data-end="199" data-start="196" />\n<strong data-end="211" data-start="199">&#128337\; Time:</strong> 2:00 PM<br data-end="222" data-start="219" />\n<strong data-end="238" data-start="222">&#128205\; Location:</strong> Neosho Civic Center\, 109 W Main St\, Neosho\, MO</p>\n\n<p data-end="513" data-start="289">The American Legion Auxiliary #163 warmly invites all women veterans in the area to a special afternoon tea in your honor. Join us as we celebrate your service and provide a space for connection\, appreciation\, and community.</p>\n\n<p data-end="652" data-start="515">This event is free to attend\, but <strong data-end="574" data-start="549">RSVPs are appreciated</strong>. Please contact <strong data-end="624" data-start="591">Ellen Arnce at (417) 850-5672</strong> to confirm your attendance.</p>\n\n<p data-end="766" data-start="654">Come enjoy refreshments\, camaraderie\, and heartfelt gratitude for your service. We look forward to honoring you!</p>\n\n<p data-end="862" data-start="768">#WomenVeterans #VeteransTea #NeoshoMO #AmericanLegionAuxiliary #CommunityHonor #VeteranSupport</p>\n
LOCATION:Neosho Civic Center\, 109 W Main St\, Neosho\, MO
UID:e.2144.16511
SEQUENCE:3
DTSTAMP:20260424T074146Z
URL:https://www.neoshocc.com/events/details/women-veterans-tea-hosted-by-american-legion-auxiliary-163-16511
END:VEVENT

END:VCALENDAR
