BEGIN:VCALENDAR
VERSION:2.0
PRODID:-//ChamberMaster//Event Calendar 2.0//EN
METHOD:PUBLISH
X-PUBLISHED-TTL:P3D
REFRESH-INTERVAL:P3D
CALSCALE:GREGORIAN
BEGIN:VEVENT
DTSTART;VALUE=DATE:20250624
DTEND;VALUE=DATE:20250814
TRANSP:TRANSPARENT
X-MICROSOFT-CDO-ALLDAYEVENT:TRUE
SUMMARY:YMCA Summer Food Program Volunteers Needed
DESCRIPTION:The Neosho YMCA is participating the in Summer Food Program. Children age 1-18 can receive seven days of breakfast and dinners free of charge each week. Register online at tristatefamilyymca.org each Friday beginning June 20th.
X-ALT-DESC;FMTTYPE=text/html:The Neosho YMCA is participating the in Summer Food Program. Children age 1-18 can receive seven days of breakfast and dinners free of charge each week. Register online at tristatefamilyymca.org each Friday beginning June 20th.&nbsp\;
LOCATION:Mondays- Walmart in Jane June 30-August11 Tuesdays- G & W in Seneca July 1-August 12 Wednesdays- Walmart in Neosho July 2-August 13 Thursdays- Harps in Anders July 3-August 7
UID:e.2144.16640
SEQUENCE:3
DTSTAMP:20260424T042836Z
URL:https://www.neoshocc.com/events/details/ymca-summer-food-program-volunteers-needed-16640
END:VEVENT

END:VCALENDAR
