BEGIN:VCALENDAR
VERSION:2.0
PRODID:-//ChamberMaster//Event Calendar 2.0//EN
METHOD:PUBLISH
X-PUBLISHED-TTL:P3D
REFRESH-INTERVAL:P3D
CALSCALE:GREGORIAN
BEGIN:VEVENT
DTSTART:20260201T070000Z
DTEND:20260201T080000Z
X-MICROSOFT-CDO-ALLDAYEVENT:FALSE
SUMMARY:Your Mission Statement: Returning to Your Inner Compass
DESCRIPTION:Your Mission Statement: Returning to Your Inner Compass\n\nDate: Sunday\, February 1   1 2 PM CST\n\nShort Promo:\n\nCreate the guiding statement that keeps your life aligned.\n\nEvent Description:\n\nThis transformational workshop helps you craft a personal mission statement a powerful inner compass that keeps you aligned with your values and purpose.\n\nYou'll leave with a clear\, concise\, inspiring foundation for your next chapter.\n\nYou'll Learn:\n\n  How to identify your core values\n\n  How to translate purpose into action\n\n  How to use a mission statement for daily decisions\n\nWho This Is For:\n\nAnyone craving direction\, clarity\, or a fresh life vision.\n\nCTA:\n\nJoin us and create your inner compass.\n\nhttps://www.livebliss.org/event-details/your-mission-statement-returning-to-your-inner-compass
X-ALT-DESC;FMTTYPE=text/html:<h3><span style="color:rgb(0\, 0\, 0)"><span style="color:rgb(67\, 67\, 67)\; font-family:arial\,sans-serif\; font-size:14pt">Your Mission Statement: Returning to Your Inner Compass</span></span></h3>\n\n<p><span style="color:rgb(0\, 0\, 0)"><strong>Date:</strong><span style="font-family:tenor sans\,sans-serif\; font-size:11pt"> Sunday\, February 1 &bull\; 1&ndash\;2 PM CST</span></span></p>\n\n<p><span style="color:rgb(0\, 0\, 0)"><strong>Short Promo:</strong></span></p>\n\n<p><span style="color:rgb(0\, 0\, 0)"><span style="font-family:tenor sans\,sans-serif\; font-size:11pt">Create the guiding statement that keeps your life aligned.</span></span></p>\n\n<p><span style="color:rgb(0\, 0\, 0)"><strong>Event Description:</strong></span></p>\n\n<p><span style="color:rgb(0\, 0\, 0)"><span style="font-family:tenor sans\,sans-serif\; font-size:11pt">This transformational workshop helps you craft a </span><strong>personal mission statement</strong><span style="font-family:tenor sans\,sans-serif\; font-size:11pt">&mdash\;a powerful inner compass that keeps you aligned with your values and purpose.</span></span></p>\n\n<p><span style="color:rgb(0\, 0\, 0)"><span style="font-family:tenor sans\,sans-serif\; font-size:11pt">You&rsquo\;ll leave with a clear\, concise\, inspiring foundation for your next chapter.</span></span></p>\n\n<p><span style="color:rgb(0\, 0\, 0)"><strong>You&rsquo\;ll Learn:</strong></span></p>\n\n<p><span style="color:rgb(0\, 0\, 0)"><span style="font-family:tenor sans\,sans-serif\; font-size:11pt">&bull\; How to identify your core values</span></span></p>\n\n<p><span style="color:rgb(0\, 0\, 0)"><span style="font-family:tenor sans\,sans-serif\; font-size:11pt">&bull\; How to translate purpose into action</span></span></p>\n\n<p><span style="color:rgb(0\, 0\, 0)"><span style="font-family:tenor sans\,sans-serif\; font-size:11pt">&bull\; How to use a mission statement for daily decisions</span></span></p>\n\n<p><span style="color:rgb(0\, 0\, 0)"><strong>Who This Is For:</strong></span></p>\n\n<p><span style="color:rgb(0\, 0\, 0)"><span style="font-family:tenor sans\,sans-serif\; font-size:11pt">Anyone craving direction\, clarity\, or a fresh life vision.</span></span></p>\n\n<p><span style="color:rgb(0\, 0\, 0)"><strong>CTA:</strong></span></p>\n\n<p><span style="color:rgb(0\, 0\, 0)"><span style="font-family:tenor sans\,sans-serif\; font-size:11pt">Join us and create your inner compass.</span></span></p>\n\n<p><span style="color:rgb(0\, 0\, 0)"><a href="https://www.livebliss.org/event-details/your-mission-statement-returning-to-your-inner-compass" style="text-decoration: none\;"><u>https://www.livebliss.org/event-details/your-mission-statement-returning-to-your-inner-compass</u></a></span></p>\n
LOCATION:404 S Neosho Blvd Suite D Neosho MO 64850
UID:e.2144.18836
SEQUENCE:3
DTSTAMP:20260423T193101Z
URL:https://www.neoshocc.com/events/details/your-mission-statement-returning-to-your-inner-compass-18836
END:VEVENT

END:VCALENDAR
