BEGIN:VCALENDAR
VERSION:2.0
PRODID:-//ChamberMaster//Event Calendar 2.0//EN
METHOD:PUBLISH
X-PUBLISHED-TTL:P3D
REFRESH-INTERVAL:P3D
CALSCALE:GREGORIAN
BEGIN:VEVENT
DTSTART;VALUE=DATE:20250113
DTEND;VALUE=DATE:20250114
TRANSP:TRANSPARENT
X-MICROSOFT-CDO-ALLDAYEVENT:TRUE
SUMMARY:Youth Bowling League
DESCRIPTION:Youth Bowl starts Saturday morning at 10 a.m.. Cost is $10 weekly\, for 3 games. Free coaching\, scholarship for college open to all to compete\, Bring your child in to learn more about the event. Anyone at the desk can help. Bowling improves\, hand eye coordination\, involves math and facility has new lanes\, smoke free environment\, supportive coaches and more!
X-ALT-DESC;FMTTYPE=text/html:Youth Bowl starts Saturday morning at 10 a.m.. Cost is $10 weekly\, for 3 games. Free coaching\, scholarship for college open to all to compete\, Bring your child in to learn more about the event. Anyone at the desk can help. Bowling improves\, hand eye coordination\, involves math and facility has new lanes\, smoke free environment\, supportive coaches and more!
LOCATION:2811 Gardner Edgewood Drive Neosho\, Mo 64850
UID:e.2144.14334
SEQUENCE:3
DTSTAMP:20260424T161226Z
URL:https://www.neoshocc.com/events/details/youth-bowling-league-01-13-2025-14334
END:VEVENT

END:VCALENDAR
