BEGIN:VCALENDAR
VERSION:2.0
PRODID:-//ChamberMaster//Event Calendar 2.0//EN
METHOD:PUBLISH
X-PUBLISHED-TTL:P3D
REFRESH-INTERVAL:P3D
CALSCALE:GREGORIAN
BEGIN:VEVENT
DTSTART:20250922T210000Z
DTEND:20250922T220000Z
X-MICROSOFT-CDO-ALLDAYEVENT:FALSE
SUMMARY:Youth Program
DESCRIPTION:Youth Programs are kicking back up on September 22nd for tweens ages 9-13. There will be games\, activities\, and social time for visiting!! Admission is free.
X-ALT-DESC;FMTTYPE=text/html:Youth Programs are kicking back up on September 22nd for tweens ages 9-13. There will be games\, activities\, and social time for visiting!! Admission is free.
LOCATION:201 W Spring St\, Neosho\, MO 64850
UID:e.2144.18463
SEQUENCE:3
DTSTAMP:20260424T025510Z
URL:https://www.neoshocc.com/events/details/youth-program-18463
END:VEVENT

END:VCALENDAR
