BEGIN:VCALENDAR
VERSION:2.0
PRODID:-//ChamberMaster//Event Calendar 2.0//EN
METHOD:PUBLISH
X-PUBLISHED-TTL:P3D
REFRESH-INTERVAL:P3D
CALSCALE:GREGORIAN
BEGIN:VEVENT
DTSTART:20260126T220000Z
DTEND:20260127T000000Z
X-MICROSOFT-CDO-ALLDAYEVENT:FALSE
SUMMARY:Youth Programs Game Night
DESCRIPTION:Join us for Youth Programs Game Night!!
X-ALT-DESC;FMTTYPE=text/html:Join us for Youth Programs Game Night!!&nbsp\;
LOCATION:201 West Spring Street Neosho\, MO 64850
UID:e.2144.18834
SEQUENCE:3
DTSTAMP:20260423T210307Z
URL:https://www.neoshocc.com/events/details/youth-programs-game-night-18834
END:VEVENT

END:VCALENDAR
