BEGIN:VCALENDAR
VERSION:2.0
PRODID:-//ChamberMaster//Event Calendar 2.0//EN
METHOD:PUBLISH
X-PUBLISHED-TTL:P3D
REFRESH-INTERVAL:P3D
CALSCALE:GREGORIAN
BEGIN:VEVENT
DTSTART:20240816T230000Z
DTEND:20240817T020000Z
X-MICROSOFT-CDO-ALLDAYEVENT:FALSE
SUMMARY:Zane Grimes Live Music at Eastside Social
DESCRIPTION:Come out to the patio at Eastside Social for live music by Zane Grimes on August 16th from 6pm to 9pm! Enjoy delicious food\, bring your good vibes\, and let's have a great time together!
X-ALT-DESC;FMTTYPE=text/html:Come out to the patio at Eastside Social for live music by Zane Grimes on August 16th from 6pm to 9pm! Enjoy delicious food\, bring your good vibes\, and let&#39\;s have a great time together!
LOCATION:113 S Washington St. Neosho\, Mo at Eastside Social
UID:e.2144.12235
SEQUENCE:3
DTSTAMP:20260424T232436Z
URL:https://www.neoshocc.com/events/details/zane-grimes-live-music-at-eastside-social-12235
END:VEVENT

END:VCALENDAR
