BEGIN:VCALENDAR
VERSION:2.0
PRODID:-//ChamberMaster//Event Calendar 2.0//EN
METHOD:PUBLISH
X-PUBLISHED-TTL:P3D
REFRESH-INTERVAL:P3D
CALSCALE:GREGORIAN
BEGIN:VEVENT
DTSTART:20250920T010000Z
DTEND:20250920T040000Z
X-MICROSOFT-CDO-ALLDAYEVENT:FALSE
SUMMARY:Zimmeroo Live at Osage Spring
DESCRIPTION:Zimmeroo is an Americana Rock band based out of Grove\, Ok. Founded by guitarist Cody Frost who is an award winning acoustic flatpicking guitarist turned Rock guitarist\, his daughter Dalyn Rae as frontman and lead vocalist\, and his other daughter Lani Frost on bass. Zimmeroo is a 5 piece band that uniquely intertwines Americana instruments with a hard driving rock and roll style\, they're dubbed as Americana Rock.
X-ALT-DESC;FMTTYPE=text/html:<div>\n<div>\n<div style="margin-left:-17px\; margin-right:-17px">\n<div>\n<div>\n<div>\n<div>\n<p>Zimmeroo is an Americana Rock band based out of Grove\, Ok. Founded by guitarist Cody Frost who is an award winning acoustic flatpicking guitarist turned Rock guitarist\, his daughter Dalyn Rae as frontman and lead vocalist\, and his other daughter Lani Frost on bass. Zimmeroo is a 5 piece band that uniquely intertwines Americana instruments with a hard driving rock and roll style\, they&#39\;re dubbed as Americana Rock.</p>\n</div>\n</div>\n</div>\n</div>\n</div>\n</div>\n</div>\n
LOCATION:200 e Spring Street Neosho\, MO 64850
UID:e.2144.18491
SEQUENCE:3
DTSTAMP:20260424T025709Z
URL:https://www.neoshocc.com/events/details/zimmeroo-live-at-osage-spring-18491
END:VEVENT

END:VCALENDAR
