BEGIN:VCALENDAR
VERSION:2.0
PRODID:-//ChamberMaster//Event Calendar 2.0//EN
METHOD:PUBLISH
X-PUBLISHED-TTL:P3D
REFRESH-INTERVAL:P3D
CALSCALE:GREGORIAN
BEGIN:VEVENT
DTSTART:20251025T220000Z
DTEND:20251026T030000Z
X-MICROSOFT-CDO-ALLDAYEVENT:FALSE
SUMMARY:Zombie Axe Throw
DESCRIPTION:Zombie Axe Throw + Glowthrow \n\nBlacklight Cornhole Tournament on Friday Night 6:30PM\n\n\n\nThey're back from the dead....\n\nThe fog's rolling in\, the lights are flickering\, and the undead are waiting for your throw.\n\n\n\nOctober 24-25    5-10PM\n\nAnvil Axe Co - Neosho Mo\n\n\n\nCome dressed in your best costume and snap a pic in the photo booth.  Prizes and memories to be had!
X-ALT-DESC;FMTTYPE=text/html:Zombie Axe Throw + Glowthrow&nbsp\;<br />\nBlacklight Cornhole Tournament on Friday Night 6:30PM<br />\n<br />\nThey&#39\;re back from the dead....<br />\nThe fog&#39\;s rolling in\, the lights are flickering\, and the undead are waiting for your throw.<br />\n<br />\nOctober 24-25&nbsp\; &nbsp\; 5-10PM<br />\nAnvil Axe Co - Neosho Mo<br />\n<br />\nCome dressed in your best costume and snap a pic in the photo booth.&nbsp\; Prizes and memories to be had!&nbsp\;
LOCATION:Anvil Axe Co 7837 Gateway Drive Neosho. MO
UID:e.2144.18540
SEQUENCE:3
DTSTAMP:20260424T014727Z
URL:https://www.neoshocc.com/events/details/zombie-axe-throw-10-25-2025-18540
END:VEVENT

END:VCALENDAR
